BEGIN:VCALENDAR
VERSION:2.0
PRODID:-//Afritique - ECPv5.14.2.1//NONSGML v1.0//EN
CALSCALE:GREGORIAN
METHOD:PUBLISH
X-WR-CALNAME:Afritique
X-ORIGINAL-URL:https://afritique.co.za
X-WR-CALDESC:Events for Afritique
REFRESH-INTERVAL;VALUE=DURATION:PT1H
X-Robots-Tag:noindex
X-PUBLISHED-TTL:PT1H
BEGIN:VTIMEZONE
TZID:UTC
BEGIN:STANDARD
TZOFFSETFROM:+0000
TZOFFSETTO:+0000
TZNAME:UTC
DTSTART:20220101T000000
END:STANDARD
END:VTIMEZONE
BEGIN:VEVENT
DTSTART;TZID=UTC:20220715T080000
DTEND;TZID=UTC:20220815T170000
DTSTAMP:20260426T034421
CREATED:20220623T232615Z
LAST-MODIFIED:20220623T232615Z
UID:626-1657872000-1660582800@afritique.co.za
SUMMARY:Afritique Paint Technique - Christmas in July at Our Studio
DESCRIPTION:
URL:https://afritique.co.za/event/afritique-paint-technique-christmas-in-july-at-our-studio/
LOCATION:Afritique\, Riversands Farm Village | Riversands Commercial Park\, Rose Road\, Knopjeslaagte\, Midrand\, Gauteng\, 2189\, South Africa
ATTACH;FMTTYPE=image/jpeg:https://afritique.co.za/wp-content/uploads/2022/06/83b0cb3588195a5b318a7f19cd0377b6.jpg
ORGANIZER;CN="Afritique":MAILTO:info@afritique.co.za
END:VEVENT
END:VCALENDAR